BEGIN:VCALENDAR
VERSION:2.0
PRODID:-//artifica.one//Prigonrieux//FR
CALSCALE:GREGORIAN
METHOD:PUBLISH
BEGIN:VEVENT
SUMMARY:BRADERIE - Solidarité Ukraine
UID:1172
SEQUENCE:0
STATUS:CONFIRMED
TRANSP:TRANSPARENT
DTSTART:20230318T070000Z
DTEND:20230325T190000Z
DTSTAMP:20230217T093434Z
CATEGORIES:Social
DESCRIPTION:
URL:https://www.ville-prigonrieux.fr/agenda/braderie-solidarite-ukraine-1172
END:VEVENT
END:VCALENDAR
