BEGIN:VCALENDAR
VERSION:2.0
PRODID:-//artifica.one//Prigonrieux//FR
CALSCALE:GREGORIAN
METHOD:PUBLISH
BEGIN:VEVENT
SUMMARY:Happy Halloween - Association des parents d'élèv
 es Prigontins
UID:1755
SEQUENCE:0
STATUS:CONFIRMED
TRANSP:TRANSPARENT
DTSTART:20251101T070000Z
DTEND:20251101T190000Z
DTSTAMP:20231024T130148Z
CATEGORIES:Enfance - Jeunesse, Évènement, Vie associative
LOCATION:Espace socio-culturel
 Place du Groupe Loiseau
 24130 Prigonrieux France
GEO:44.854973;0.402342
DESCRIPTION:Organisé par la Pep's
URL:https://www.ville-prigonrieux.fr/agenda/happy-halloween-association-des-parents-d-eleves-prigontins-1755
END:VEVENT
END:VCALENDAR
