BEGIN:VCALENDAR
VERSION:2.0
PRODID:-//artifica.one//Prigonrieux//FR
CALSCALE:GREGORIAN
METHOD:PUBLISH
BEGIN:VEVENT
SUMMARY:Concert par Zoom Chorale
UID:2110
SEQUENCE:0
STATUS:CONFIRMED
TRANSP:TRANSPARENT
DTSTART:20250406T060000Z
DTEND:20250406T180000Z
DTSTAMP:20240326T163241Z
CATEGORIES:Culture, Évènement
LOCATION:Eglise de Prigonrieux
 
 24130 Prigonrieux France
GEO:44.8563;0.401836
DESCRIPTION:Le dimanche 6 Avril, à 16h, la chorale Zoom se pr
 oduit à Prigonrieux, dans l'église de la ville.
URL:https://www.ville-prigonrieux.fr/agenda/concert-par-zoom-chorale-2110
END:VEVENT
END:VCALENDAR
