BEGIN:VCALENDAR
VERSION:2.0
PRODID:-//artifica.one//Prigonrieux//FR
CALSCALE:GREGORIAN
METHOD:PUBLISH
BEGIN:VEVENT
SUMMARY:Exposition  : Du Corps à l'Art
UID:2401
SEQUENCE:0
STATUS:CONFIRMED
TRANSP:TRANSPARENT
DTSTART:20240906T060000Z
DTEND:20240923T180000Z
DTSTAMP:20240830T132621Z
CATEGORIES:Culture
LOCATION:Hôtel de ville
 1 Place du Groupe Loiseau
 24130 Prigonrieux 
GEO:44.855198;0.401558
DESCRIPTION:Vous êtes invité(e) au vernissage de l'expositio
 n le dimanche 8 septembre à 10h30 à la mairie de
  Prigonrieux.
URL:https://www.ville-prigonrieux.fr/agenda/exposition-du-corps-a-l-art-2401
END:VEVENT
END:VCALENDAR
