BEGIN:VCALENDAR
VERSION:2.0
PRODID:-//artifica.one//Prigonrieux//FR
CALSCALE:GREGORIAN
METHOD:PUBLISH
BEGIN:VEVENT
SUMMARY:Bal CD par Girls &amp; Boys Country Road
UID:2667
SEQUENCE:0
STATUS:CONFIRMED
TRANSP:TRANSPARENT
DTSTART:20250315T070000Z
DTEND:20250315T190000Z
DTSTAMP:20250109T124814Z
CATEGORIES:Évènement
LOCATION:Espace socio-culturel
 Place du Groupe Loiseau
 24130 Prigonrieux France
GEO:44.854973;0.402342
DESCRIPTION:
URL:https://www.ville-prigonrieux.fr/agenda/bal-cd-par-girls-boys-country-road-2667
END:VEVENT
END:VCALENDAR
