BEGIN:VCALENDAR
VERSION:2.0
PRODID:-//artifica.one//Prigonrieux//FR
CALSCALE:GREGORIAN
METHOD:PUBLISH
BEGIN:VEVENT
SUMMARY:Interclub Muay Thaï à Prigonrieux
UID:2934
SEQUENCE:0
STATUS:CONFIRMED
TRANSP:TRANSPARENT
DTSTART:20250607T060000Z
DTEND:20250607T180000Z
DTSTAMP:20250523T063348Z
CATEGORIES:Sport
LOCATION:Complexe Sportif
 Rte du Stade
 24130 Prigonrieux France
GEO:44.858253;0.396903
DESCRIPTION:
URL:https://www.ville-prigonrieux.fr/agenda/interclub-muay-thai-a-prigonrieux-2934
END:VEVENT
END:VCALENDAR
