BEGIN:VCALENDAR
VERSION:2.0
PRODID:-//artifica.one//Prigonrieux//FR
CALSCALE:GREGORIAN
METHOD:PUBLISH
BEGIN:VEVENT
SUMMARY:Voice of freedom, hommage à Etta James
UID:3341
SEQUENCE:0
STATUS:CONFIRMED
TRANSP:TRANSPARENT
DTSTART:20251219T070000Z
DTEND:20251219T190000Z
DTSTAMP:20251202T132115Z

LOCATION:Espace socio-culturel
 Place du Groupe Loiseau
 24130 Prigonrieux France
GEO:44.854973;0.402342
DESCRIPTION:Entrée : 18€&lt;br /&gt;
Buvette crêpe&lt;br /&gt;
Organ
 isé par Prigonrieux Animations et Les amis de Tou
 skiroul
URL:https://www.ville-prigonrieux.fr/agenda/voice-of-freedom-hommage-a-etta-james-3341
END:VEVENT
END:VCALENDAR
