BEGIN:VCALENDAR
VERSION:2.0
PRODID:-//artifica.one//Prigonrieux//FR
CALSCALE:GREGORIAN
METHOD:PUBLISH
BEGIN:VEVENT
SUMMARY:Le Prénom - Pièce de théâtre
UID:3412
SEQUENCE:0
STATUS:CONFIRMED
TRANSP:TRANSPARENT
DTSTART:20260408T060000Z
DTEND:20260408T180000Z
DTSTAMP:20260119T162848Z

LOCATION:Espace socio-culturel
 Place du Groupe Loiseau
 24130 Prigonrieux France
GEO:44.854973;0.402342
DESCRIPTION:Mercredi 8 avril 2026 à 20h30&lt;br /&gt;
Organisé pa
 r Théatre Cinéacte et Prigonrieux Animations
URL:https://www.ville-prigonrieux.fr/agenda/le-prenom-piece-de-theatre-3412
END:VEVENT
END:VCALENDAR
