BEGIN:VCALENDAR
VERSION:2.0
PRODID:-//artifica.one//Prigonrieux//FR
CALSCALE:GREGORIAN
METHOD:PUBLISH
BEGIN:VEVENT
SUMMARY:Journée jeux de société par la Pep's
UID:3603
SEQUENCE:0
STATUS:CONFIRMED
TRANSP:TRANSPARENT
DTSTART:20260523T060000Z
DTEND:20260523T180000Z
DTSTAMP:20260422T124118Z

LOCATION:Espace socio-culturel
 Place du Groupe Loiseau
 24130 Prigonrieux France
GEO:44.854973;0.402342
DESCRIPTION:Organisé par la PEPS
URL:https://www.ville-prigonrieux.fr/agenda/journee-jeux-de-societe-par-la-pep-s-3603
END:VEVENT
END:VCALENDAR
